BEGIN:VCALENDAR
PRODID:-//Solspace/Calendar 2.x//EN
VERSION:2.0
CALSCALE:GREGORIAN
BEGIN:VEVENT
UID:c86d0f7127c8db039fe0861a30a50c20@solspace.com
DTSTAMP:20260421T103916
DTSTART;VALUE=DATE:20230411
DTEND;VALUE=DATE:20230412
RRULE:FREQ=MONTHLY;UNTIL=20251231T235959Z;INTERVAL=1;BYDAY=2TU
SUMMARY:HF BOD Meeting via Microsoft Teams
END:VEVENT
END:VCALENDAR
