BEGIN:VCALENDAR
PRODID:-//Solspace/Calendar 2.x//EN
VERSION:2.0
CALSCALE:GREGORIAN
BEGIN:VEVENT
UID:cb2cc8bb7e41d6e86b81e5266e341ea8@solspace.com
DTSTAMP:20260419T123106
DTSTART;VALUE=DATE:20260131
DTEND;VALUE=DATE:20260201
SUMMARY:Annual Assessment Due
END:VEVENT
END:VCALENDAR
