BEGIN:VCALENDAR
PRODID:-//Solspace/Calendar 2.x//EN
VERSION:2.0
CALSCALE:GREGORIAN
BEGIN:VEVENT
UID:d0435cc4599a288f2feaf96c2311f70b@solspace.com
DTSTAMP:20260423T115354
DTSTART:20260221T100000
DTEND:20260221T113000
SUMMARY:Kids in Today's Society
END:VEVENT
END:VCALENDAR
