BEGIN:VCALENDAR
PRODID:-//Solspace/Calendar 2.x//EN
VERSION:2.0
CALSCALE:GREGORIAN
BEGIN:VEVENT
UID:184be1709814f07af877340dfbd2bc53@solspace.com
DTSTAMP:20260423T114036
DTSTART:20260224T183000
DTEND:20260224T193000
SUMMARY:Personal Safety
END:VEVENT
END:VCALENDAR
